View In:
ArcGIS JavaScript
Portal for ArcGIS Map Viewer
ArcGIS Earth
ArcGIS Pro
Service Description: BaseMap for Adopted Highways including Cass Free Region, Cdis Lease Region and Cass Lease Region to use in MaestroLive.
Map Name: Layers
Legend
All Layers and Tables
Dynamic Legend
Dynamic All Layers
Layers:
Description:
Service Item Id: 8c48013d5cdb4576b21c0a625341b993
Copyright Text:
Spatial Reference:
102100
(3857)
LatestVCSWkid(0)
Single Fused Map Cache: true
Tile Info:
- Height: 256
- Width: 256
- DPI: 96
-
Levels of Detail: 24
-
Level ID: 0
[ Start Tile, End Tile ]
- Resolution: 156543.03392800014
- Scale: 5.91657527591555E8
-
Level ID: 1
[ Start Tile, End Tile ]
- Resolution: 78271.51696399994
- Scale: 2.95828763795777E8
-
Level ID: 2
[ Start Tile, End Tile ]
- Resolution: 39135.75848200009
- Scale: 1.47914381897889E8
-
Level ID: 3
[ Start Tile, End Tile ]
- Resolution: 19567.87924099992
- Scale: 7.3957190948944E7
-
Level ID: 4
[ Start Tile, End Tile ]
- Resolution: 9783.93962049996
- Scale: 3.6978595474472E7
-
Level ID: 5
[ Start Tile, End Tile ]
- Resolution: 4891.96981024998
- Scale: 1.8489297737236E7
- Format: PNG
- Compression Quality: 0.0
- Origin: X: -2.0037508342787E7
Y: 2.0037508342787E7
- Spatial Reference: 102100
(3857)
LatestVCSWkid(0)
Storage Info:
- Storage Format: esriMapCacheStorageModeCompactV2
- Packet Size: 128
Initial Extent:
XMin: -120350.71429294752
YMin: 6586463.165620792
XMax: -120050.41160900882
YMax: 6586694.147332755
Spatial Reference: 102100
(0)
LatestVCSWkid(0)
Full Extent:
XMin: -125890.1152369024
YMin: 6581915.533440335
XMax: -112683.45834180487
YMax: 6597994.025573801
Spatial Reference: 102100
(0)
LatestVCSWkid(0)
Units: esriMeters
Supported Image Format Types: PNG32,PNG24,PNG,JPG,DIB,TIFF,EMF,PS,PDF,GIF,SVG,SVGZ,BMP
Document Info:
Title: BaseMap_AdoptedHighways
Author: Abdul Jabbar, GIS Technician in EAM at Colas UK
Comments: BaseMap for Adopted Highways including Cass Free Region, Cdis Lease Region and Cass Lease Region to use in MaestroLive.
Subject: BaseMap for Adopted Highways including Cass Free Region, Cdis Lease Region and Cass Lease Region to use in MaestroLive.
Category:
Keywords: Portsmouth
AntialiasingMode: None
TextAntialiasingMode: Force
Supports Dynamic Layers: true
MaxRecordCount: 100000
MaxImageHeight: 4096
MaxImageWidth: 4096
Supported Query Formats: JSON, geoJSON, PBF
Supports Query Data Elements: true
Min Scale: 2311162.217155
Max Scale: 282.124294
Supports Datum Transformation: true
Child Resources:
Info
Dynamic Layer
Supported Operations:
Export Map
Identify
QueryLegends
QueryDomains
Find
Return Updates